BEGIN:VCALENDAR
VERSION:2.0
PRODID:-//Tower Grove East - ECPv6.15.20//NONSGML v1.0//EN
CALSCALE:GREGORIAN
METHOD:PUBLISH
X-ORIGINAL-URL:https://towergroveeast.org
X-WR-CALDESC:Events for Tower Grove East
REFRESH-INTERVAL;VALUE=DURATION:PT1H
X-Robots-Tag:noindex
X-PUBLISHED-TTL:PT1H
BEGIN:VTIMEZONE
TZID:America/Chicago
BEGIN:DAYLIGHT
TZOFFSETFROM:-0600
TZOFFSETTO:-0500
TZNAME:CDT
DTSTART:20200308T080000
END:DAYLIGHT
BEGIN:STANDARD
TZOFFSETFROM:-0500
TZOFFSETTO:-0600
TZNAME:CST
DTSTART:20201101T070000
END:STANDARD
BEGIN:DAYLIGHT
TZOFFSETFROM:-0600
TZOFFSETTO:-0500
TZNAME:CDT
DTSTART:20210314T080000
END:DAYLIGHT
BEGIN:STANDARD
TZOFFSETFROM:-0500
TZOFFSETTO:-0600
TZNAME:CST
DTSTART:20211107T070000
END:STANDARD
BEGIN:DAYLIGHT
TZOFFSETFROM:-0600
TZOFFSETTO:-0500
TZNAME:CDT
DTSTART:20220313T080000
END:DAYLIGHT
BEGIN:STANDARD
TZOFFSETFROM:-0500
TZOFFSETTO:-0600
TZNAME:CST
DTSTART:20221106T070000
END:STANDARD
BEGIN:DAYLIGHT
TZOFFSETFROM:-0600
TZOFFSETTO:-0500
TZNAME:CDT
DTSTART:20230312T080000
END:DAYLIGHT
BEGIN:STANDARD
TZOFFSETFROM:-0500
TZOFFSETTO:-0600
TZNAME:CST
DTSTART:20231105T070000
END:STANDARD
BEGIN:DAYLIGHT
TZOFFSETFROM:-0600
TZOFFSETTO:-0500
TZNAME:CDT
DTSTART:20240310T080000
END:DAYLIGHT
BEGIN:STANDARD
TZOFFSETFROM:-0500
TZOFFSETTO:-0600
TZNAME:CST
DTSTART:20241103T070000
END:STANDARD
BEGIN:DAYLIGHT
TZOFFSETFROM:-0600
TZOFFSETTO:-0500
TZNAME:CDT
DTSTART:20250309T080000
END:DAYLIGHT
BEGIN:STANDARD
TZOFFSETFROM:-0500
TZOFFSETTO:-0600
TZNAME:CST
DTSTART:20251102T070000
END:STANDARD
BEGIN:DAYLIGHT
TZOFFSETFROM:-0600
TZOFFSETTO:-0500
TZNAME:CDT
DTSTART:20260308T080000
END:DAYLIGHT
BEGIN:STANDARD
TZOFFSETFROM:-0500
TZOFFSETTO:-0600
TZNAME:CST
DTSTART:20261101T070000
END:STANDARD
BEGIN:DAYLIGHT
TZOFFSETFROM:-0600
TZOFFSETTO:-0500
TZNAME:CDT
DTSTART:20270314T080000
END:DAYLIGHT
BEGIN:STANDARD
TZOFFSETFROM:-0500
TZOFFSETTO:-0600
TZNAME:CST
DTSTART:20271107T070000
END:STANDARD
END:VTIMEZONE
BEGIN:VEVENT
DTSTART;TZID=America/Chicago:20260331T180000
DTEND;TZID=America/Chicago:20260331T203000
DTSTAMP:20260423T134953
CREATED:20260314T144947Z
LAST-MODIFIED:20260314T150102Z
UID:1526-1774980000-1774989000@towergroveeast.org
SUMMARY:TGE Adventures - Social Night @ Adventures of Intrigue
DESCRIPTION:Come hang with your neighbors and play a fun open concept escape game! TGENA will provide drinks and snacks in Adventures of Intrigue VIP room. (2400 S Jefferson) $5 per person in advance ($35 value) Kids and adults welcome! Tuesday\, March 31st 6pm-830pm. Escape game starts at 630pm. \nSign up here to let us know you’re coming!
URL:https://towergroveeast.org/event/tge-adventures-social-night-adventures-of-intrigue/
LOCATION:Adventures of Intrigue\, 2400 S Jefferson Ave\, Saint Louis\, MO\, 63104\, United States
CATEGORIES:Tower Grove East Adventures
ATTACH;FMTTYPE=image/png:https://towergroveeast.org/wp-content/uploads/2026/03/Social-Night-@-Adventures-of-Intrigure-Flyer.png
END:VEVENT
BEGIN:VEVENT
DTSTART;TZID=America/Chicago:20250918T180000
DTEND;TZID=America/Chicago:20250918T200000
DTSTAMP:20260423T134953
CREATED:20250903T180155Z
LAST-MODIFIED:20250903T180942Z
UID:1405-1758218400-1758225600@towergroveeast.org
SUMMARY:TGE Adventures: Third Thursdays at Tick Tock Tavern
DESCRIPTION:Join TGENA and your neighbors every third Thursday of the month at Tick Tock Tavern for our monthly hangout! Hosted by Social & Engagement Committee Chair Amy Kurz\, this is a great opportunity to connect with your neighbors and support a local watering hole. We’ll also have TGE swag available for purchase!
URL:https://towergroveeast.org/event/tge-adventures-third-thursdays-at-tick-tock-tavern/
LOCATION:Tick Tock Tavern\, 3459 Magnolia Ave\, Saint Louis\, MO\, 63118\, United States
CATEGORIES:Third Thursdays,Tower Grove East Adventures
ATTACH;FMTTYPE=image/png:https://towergroveeast.org/wp-content/uploads/2025/09/Adventures-FB-IG-post-4.png
END:VEVENT
BEGIN:VEVENT
DTSTART;TZID=America/Chicago:20250821T180000
DTEND;TZID=America/Chicago:20250821T200000
DTSTAMP:20260423T134953
CREATED:20250812T161000Z
LAST-MODIFIED:20250812T161715Z
UID:1396-1755799200-1755806400@towergroveeast.org
SUMMARY:TGE Adventures: Third Thursdays at Tick Tock Tavern
DESCRIPTION:Join TGENA and your neighbors every third Thursday of the month at Tick Tock Tavern for our monthly hangout! Hosted by Social & Engagement Committee Chair Amy Kurz\, this is a great opportunity to connect with your neighbors and support a local watering hole. We’ll also have TGE swag available for purchase!
URL:https://towergroveeast.org/event/third-thursdays-at-tick-tock-tavern/
LOCATION:Tick Tock Tavern\, 3459 Magnolia Ave\, Saint Louis\, MO\, 63118\, United States
CATEGORIES:Third Thursdays,Tower Grove East Adventures
ATTACH;FMTTYPE=image/png:https://towergroveeast.org/wp-content/uploads/2025/08/Adventures-FB-IG-post.png
END:VEVENT
BEGIN:VEVENT
DTSTART;TZID=America/Chicago:20250619T180000
DTEND;TZID=America/Chicago:20250619T200000
DTSTAMP:20260423T134953
CREATED:20250305T195617Z
LAST-MODIFIED:20250305T195617Z
UID:1313-1750356000-1750363200@towergroveeast.org
SUMMARY:Tower Grove East Adventures
DESCRIPTION:
URL:https://towergroveeast.org/event/tower-grove-east-adventures-5/
LOCATION:MO
CATEGORIES:Tower Grove East Adventures
END:VEVENT
BEGIN:VEVENT
DTSTART;TZID=America/Chicago:20250522T180000
DTEND;TZID=America/Chicago:20250522T200000
DTSTAMP:20260423T134953
CREATED:20250305T195533Z
LAST-MODIFIED:20250508T015045Z
UID:1311-1747936800-1747944000@towergroveeast.org
SUMMARY:Tower Grove East Adventures
DESCRIPTION:
URL:https://towergroveeast.org/event/tower-grove-east-adventures-4/
LOCATION:Botanicals Design Studio\, 3014 S Grand Blvd\, Saint Louis\, MO\, United States
CATEGORIES:Tower Grove East Adventures
ATTACH;FMTTYPE=image/jpeg:https://towergroveeast.org/wp-content/uploads/2025/03/TGE_Happy_Hour_5_22_25.jpg
END:VEVENT
BEGIN:VEVENT
DTSTART;TZID=America/Chicago:20250417T180000
DTEND;TZID=America/Chicago:20250417T200000
DTSTAMP:20260423T134953
CREATED:20250305T195444Z
LAST-MODIFIED:20250402T181347Z
UID:1309-1744912800-1744920000@towergroveeast.org
SUMMARY:Tower Grove East Adventures
DESCRIPTION:
URL:https://towergroveeast.org/event/tower-grove-east-adventures-3/
LOCATION:The Gin Room\, 3200 S Grand Blvd\, Saint Louis\, MO\, 63118\, United States
CATEGORIES:Tower Grove East Adventures
ATTACH;FMTTYPE=image/png:https://towergroveeast.org/wp-content/uploads/2025/03/Adventures-FB-IG-post-2.png
END:VEVENT
BEGIN:VEVENT
DTSTART;TZID=America/Chicago:20250320T180000
DTEND;TZID=America/Chicago:20250320T200000
DTSTAMP:20260423T134953
CREATED:20250314T023252Z
LAST-MODIFIED:20250314T023252Z
UID:1316-1742493600-1742500800@towergroveeast.org
SUMMARY:TGE Adventures: The Neighborhood Monthly Social Event
DESCRIPTION:
URL:https://towergroveeast.org/event/tge-adventures-the-neighborhood-monthly-social-event-6/
LOCATION:Crafted.\, 3200 Shenendoah\, St. Louis\, MO\, 63104\, United States
CATEGORIES:Tower Grove East Adventures
ATTACH;FMTTYPE=image/png:https://towergroveeast.org/wp-content/uploads/2025/03/Adventures-FB-IG-post.png
END:VEVENT
BEGIN:VEVENT
DTSTART;TZID=America/Chicago:20240418T180000
DTEND;TZID=America/Chicago:20240418T200000
DTSTAMP:20260423T134953
CREATED:20240410T235955Z
LAST-MODIFIED:20240410T235955Z
UID:1190-1713463200-1713470400@towergroveeast.org
SUMMARY:TGE Adventures: The Neighborhood Monthly Social Event
DESCRIPTION:Join us this at Riley’s Pub for this month’s TGE Adventures! Fingers crossed for some patio weather!
URL:https://towergroveeast.org/event/tge-adventures-the-neighborhood-monthly-social-event-5/
LOCATION:Riley’s Pub\, 3458 Arsenal\, St. Louis\, MO\, 63118\, United States
CATEGORIES:Tower Grove East Adventures
ATTACH;FMTTYPE=image/jpeg:https://towergroveeast.org/wp-content/uploads/2024/04/April-24-Adventures-WebFB.jpg
END:VEVENT
BEGIN:VEVENT
DTSTART;TZID=America/Chicago:20240215T180000
DTEND;TZID=America/Chicago:20240215T200000
DTSTAMP:20260423T134953
CREATED:20240209T021905Z
LAST-MODIFIED:20240209T021941Z
UID:1131-1708020000-1708027200@towergroveeast.org
SUMMARY:TGE Adventures: Pal-entine's After Hours at Garden District
DESCRIPTION:  \nJoin us Thursday\, Feb 15 for a Pal-entine’s party! This month\, TGE Adventures is popping up at Garden District for after-hours shopping\, snacks and fun with neighbors! Check out our Instagram feed for more details!
URL:https://towergroveeast.org/event/tge-adventures-pal-entines-after-hours-at-garden-district/
LOCATION:Garden District STL\, 3203 S Grand\, St. Louis\, MO\, 63118\, United States
CATEGORIES:Tower Grove East Adventures
END:VEVENT
BEGIN:VEVENT
DTSTART;TZID=America/Chicago:20230921T180000
DTEND;TZID=America/Chicago:20230921T200000
DTSTAMP:20260423T134953
CREATED:20230706T230327Z
LAST-MODIFIED:20230706T230327Z
UID:1066-1695319200-1695326400@towergroveeast.org
SUMMARY:TGE Adventures: The Neighborhood Monthly Social Event
DESCRIPTION:
URL:https://towergroveeast.org/event/tge-adventures-the-neighborhood-monthly-social-event-3/
LOCATION:MO
CATEGORIES:Tower Grove East Adventures
END:VEVENT
BEGIN:VEVENT
DTSTART;TZID=America/Chicago:20230817T180000
DTEND;TZID=America/Chicago:20230817T200000
DTSTAMP:20260423T134953
CREATED:20230706T230150Z
LAST-MODIFIED:20230706T230150Z
UID:1064-1692295200-1692302400@towergroveeast.org
SUMMARY:TGE Adventures: The Neighborhood Monthly Social Event
DESCRIPTION:
URL:https://towergroveeast.org/event/tge-adventures-the-neighborhood-monthly-social-event-2/
LOCATION:MO
CATEGORIES:Tower Grove East Adventures
END:VEVENT
BEGIN:VEVENT
DTSTART;TZID=America/Chicago:20230512T160000
DTEND;TZID=America/Chicago:20230512T200000
DTSTAMP:20260423T134953
CREATED:20230511T013443Z
LAST-MODIFIED:20230511T013443Z
UID:1019-1683907200-1683921600@towergroveeast.org
SUMMARY:TGE Adventures: The Neighborhood Monthly Social Event
DESCRIPTION:
URL:https://towergroveeast.org/event/tge-adventures-the-neighborhood-monthly-social-event/
LOCATION:Tower Grove Park
CATEGORIES:Tower Grove East Adventures
END:VEVENT
BEGIN:VEVENT
DTSTART;TZID=America/Chicago:20230316T180000
DTEND;TZID=America/Chicago:20230316T200000
DTSTAMP:20260423T134953
CREATED:20221112T142321Z
LAST-MODIFIED:20230312T214530Z
UID:979-1678989600-1678996800@towergroveeast.org
SUMMARY:TGE Adventures: The Monthly Neighborhood Social Event
DESCRIPTION:
URL:https://towergroveeast.org/event/tge-adventures-the-monthly-neighborhood-social-event/
LOCATION:MO
CATEGORIES:Tower Grove East Adventures
ATTACH;FMTTYPE=image/png:https://towergroveeast.org/wp-content/uploads/2022/11/Screen-Shot-2022-11-11-at-8.58.59-AM.png
END:VEVENT
BEGIN:VEVENT
DTSTART;TZID=America/Chicago:20220915T173000
DTEND;TZID=America/Chicago:20220915T190000
DTSTAMP:20260423T134953
CREATED:20220605T212148Z
LAST-MODIFIED:20220902T235300Z
UID:900-1663263000-1663268400@towergroveeast.org
SUMMARY:September TGE Adventures: The Neighborhood Social Event
DESCRIPTION:
URL:https://towergroveeast.org/event/june-tge-adventures-the-neighborhood-social-event/
LOCATION:Tower Grove East Community Garden\, 3303 Sidney St\, St. Louis\, 63104
CATEGORIES:Tower Grove East Adventures
ATTACH;FMTTYPE=image/png:https://towergroveeast.org/wp-content/uploads/2022/06/Screen-Shot-2022-09-02-at-4.47.57-PM.png
END:VEVENT
BEGIN:VEVENT
DTSTART;TZID=America/Chicago:20220317T190000
DTEND;TZID=America/Chicago:20220317T200000
DTSTAMP:20260423T134953
CREATED:20210903T213758Z
LAST-MODIFIED:20220409T141334Z
UID:825-1647543600-1647547200@towergroveeast.org
SUMMARY:Tower Grove East Adventures - The neighborhood social event
DESCRIPTION:Join us for our monthly neighborhood social event: TOWER GROVE EAST ADVENTURES!\nEach month we will pick a new location in/around the neighborhood to gather for drinks\, dinner\, and activities. EVERYONE is welcome – bring the whole family!\n \n  \n  \n 
URL:https://towergroveeast.org/event/tower-grove-east-adventures-the-neighborhood-social-event/
LOCATION:Grand Spirits Bottle Co.\, 3194 S. Grand\, St. Louis\, MO\, 63118\, United States
CATEGORIES:Tower Grove East Adventures
ATTACH;FMTTYPE=image/jpeg:https://towergroveeast.org/wp-content/uploads/2021/08/Adventures-82021-e1627834939876.jpeg
END:VEVENT
BEGIN:VEVENT
DTSTART;TZID=America/Chicago:20210916T180000
DTEND;TZID=America/Chicago:20210916T200000
DTSTAMP:20260423T134953
CREATED:20210903T213608Z
LAST-MODIFIED:20210903T213608Z
UID:823-1631815200-1631822400@towergroveeast.org
SUMMARY:Tower Grove East Adventures
DESCRIPTION:Join us for our monthly neighborhood social event: TOWER GROVE EAST ADVENTURES!\nEach month we will pick a new location in/around the neighborhood to gather for drinks\, dinner\, and activities. EVERYONE is welcome – bring the whole family!\n 
URL:https://towergroveeast.org/event/tower-grove-east-adventures/
LOCATION:Tower Grove East Community Garden\, 3303 Sidney St\, St. Louis\, 63104
CATEGORIES:Tower Grove East Adventures
ATTACH;FMTTYPE=image/jpeg:https://towergroveeast.org/wp-content/uploads/2021/08/Adventures-82021-e1627834939876.jpeg
END:VEVENT
BEGIN:VEVENT
DTSTART;TZID=America/Chicago:20210812T163000
DTEND;TZID=America/Chicago:20210812T193000
DTSTAMP:20260423T134953
CREATED:20210728T140315Z
LAST-MODIFIED:20210728T140315Z
UID:755-1628785800-1628796600@towergroveeast.org
SUMMARY:Five Star Foodies
DESCRIPTION:Five Star Center is looking to engage the community with a monthly food truck night. In doing so\, we want to let community members know we are still supporting seniors and those with disabilities and are interested in developing new programming with your help.\n\nThe event will be held at our building on the second Thursday of the month\, August through October\, from 4:30- 7:30 pm.\n\nThis month we are hosting 2 Girls 4 Wheels and Destination Desserts. Drinks will be available to purchase from the trucks\, or you are welcome to bring your own.\n\nLet us know what activities or events you would be interested in\, and you could win one of two $50 Schnucks gift cards.\n\nShare this event with your friends and neighbors\, then join us on our new patio for dinner and dessert with Five Star.
URL:https://towergroveeast.org/event/five-star-foodies/
LOCATION:Five Star Senior Center\, 2832 Arsenal\, St. Louis\, MO\, 63118\, United States
CATEGORIES:Tower Grove East Adventures
ATTACH;FMTTYPE=image/jpeg:https://towergroveeast.org/wp-content/uploads/2021/07/222154224_4605444789517954_1334716875498567615_n.jpeg
END:VEVENT
BEGIN:VEVENT
DTSTART;TZID=America/Chicago:20210715T180000
DTEND;TZID=America/Chicago:20210715T200000
DTSTAMP:20260423T134953
CREATED:20210718T153746Z
LAST-MODIFIED:20210731T143308Z
UID:464-1626372000-1626379200@towergroveeast.org
SUMMARY:TGE Adventures at Ritz Park
DESCRIPTION:The neighborhood social event is back!! Join us at Ritz Park (along South Grand) for a total BYOB/food social gathering with neighbors!
URL:https://towergroveeast.org/event/tge-adventures-at-ritz-park/
LOCATION:Ritz Park\, 3147 S Grand Blvd\, St. Louis\, MO\, 63118
CATEGORIES:Tower Grove East Adventures
ATTACH;FMTTYPE=image/jpeg:https://towergroveeast.org/wp-content/uploads/2021/06/tge-adventures.jpeg
END:VEVENT
BEGIN:VEVENT
DTSTART;TZID=America/Chicago:20210617T180000
DTEND;TZID=America/Chicago:20210617T190000
DTSTAMP:20260423T134953
CREATED:20210617T003445Z
LAST-MODIFIED:20210625T191141Z
UID:218-1623952800-1623956400@towergroveeast.org
SUMMARY:Flower Hour
DESCRIPTION:The first post-COVID TGE Adventures event returns in June. Come join us June 17th at Walter Knoll Florist for an interactive event! Come meet neighbors\, have a drink\, hang out – you won’t regret it! \n 
URL:https://towergroveeast.org/event/flower-hour/
LOCATION:Walter Knoll Florist\, 2765 LaSalle St\, Saint Louis\, MO\, 63104\, United States
CATEGORIES:Tower Grove East Adventures
ATTACH;FMTTYPE=image/jpeg:https://towergroveeast.org/wp-content/uploads/2021/06/tge-adventures.jpeg
END:VEVENT
END:VCALENDAR