BEGIN:VCALENDAR
VERSION:2.0
PRODID:-//Tower Grove East - ECPv6.15.20//NONSGML v1.0//EN
CALSCALE:GREGORIAN
METHOD:PUBLISH
X-ORIGINAL-URL:https://towergroveeast.org
X-WR-CALDESC:Events for Tower Grove East
REFRESH-INTERVAL;VALUE=DURATION:PT1H
X-Robots-Tag:noindex
X-PUBLISHED-TTL:PT1H
BEGIN:VTIMEZONE
TZID:America/Chicago
BEGIN:DAYLIGHT
TZOFFSETFROM:-0600
TZOFFSETTO:-0500
TZNAME:CDT
DTSTART:20210314T080000
END:DAYLIGHT
BEGIN:STANDARD
TZOFFSETFROM:-0500
TZOFFSETTO:-0600
TZNAME:CST
DTSTART:20211107T070000
END:STANDARD
BEGIN:DAYLIGHT
TZOFFSETFROM:-0600
TZOFFSETTO:-0500
TZNAME:CDT
DTSTART:20220313T080000
END:DAYLIGHT
BEGIN:STANDARD
TZOFFSETFROM:-0500
TZOFFSETTO:-0600
TZNAME:CST
DTSTART:20221106T070000
END:STANDARD
BEGIN:DAYLIGHT
TZOFFSETFROM:-0600
TZOFFSETTO:-0500
TZNAME:CDT
DTSTART:20230312T080000
END:DAYLIGHT
BEGIN:STANDARD
TZOFFSETFROM:-0500
TZOFFSETTO:-0600
TZNAME:CST
DTSTART:20231105T070000
END:STANDARD
BEGIN:DAYLIGHT
TZOFFSETFROM:-0600
TZOFFSETTO:-0500
TZNAME:CDT
DTSTART:20240310T080000
END:DAYLIGHT
BEGIN:STANDARD
TZOFFSETFROM:-0500
TZOFFSETTO:-0600
TZNAME:CST
DTSTART:20241103T070000
END:STANDARD
BEGIN:DAYLIGHT
TZOFFSETFROM:-0600
TZOFFSETTO:-0500
TZNAME:CDT
DTSTART:20250309T080000
END:DAYLIGHT
BEGIN:STANDARD
TZOFFSETFROM:-0500
TZOFFSETTO:-0600
TZNAME:CST
DTSTART:20251102T070000
END:STANDARD
END:VTIMEZONE
BEGIN:VEVENT
DTSTART;TZID=America/Chicago:20220501T100000
DTEND;TZID=America/Chicago:20220501T130000
DTSTAMP:20260421T210006
CREATED:20220409T141708Z
LAST-MODIFIED:20220425T221229Z
UID:878-1651399200-1651410000@towergroveeast.org
SUMMARY:TGE Community Garden Plant Sale
DESCRIPTION:
URL:https://towergroveeast.org/event/tge-community-garden-plant-sale-2/
LOCATION:Tower Grove East Community Garden\, 3303 Sidney St\, St. Louis\, 63104
CATEGORIES:Community Wide Yard Sale
ATTACH;FMTTYPE=image/jpeg:https://towergroveeast.org/wp-content/uploads/2022/04/TGECG_Plant_Sale2022_HalfPage_Ad-1.jpg
END:VEVENT
BEGIN:VEVENT
DTSTART;VALUE=DATE:20220704
DTEND;VALUE=DATE:20220705
DTSTAMP:20260421T210006
CREATED:20220605T212616Z
LAST-MODIFIED:20220605T212616Z
UID:902-1656892800-1656979199@towergroveeast.org
SUMMARY:TGENA Volunteers @ Fair St. Louis
DESCRIPTION:Fair St. Louis is the Tower Grove East Neighborhood Association’s biggest fundraising opportunity annually. Money is raised by staffing a drink booth at the Fair. Because of COVID\, the Fair hasn’t occurred in its usual fashion since 2019\, which also means the TGENA has been missing out on funds. BUT…IT’S BACK! \nWe need your help staffing the booth!\nVolunteering is a fun way to hang out with neighbors\, experience a bit of the Fair\,\nand help a good cause! In years past\, we have filled slots for 4 or 8 hour shifts. \nDATE: Monday\, July 4th\nTIME: We aren’t yet sure which time slot\nwe will be assigned – stay tuned. \nIf you think you may be interested – please fill out the form below!\nWe will reach out as soon as we have more information. \nhttps://forms.gle/MFeNByD8B4VbtNds8
URL:https://towergroveeast.org/event/tgena-volunteers-fair-st-louis/
LOCATION:Ballpark Village\, 601 Clark\, St. Louis\, United States
END:VEVENT
BEGIN:VEVENT
DTSTART;TZID=America/Chicago:20220823T190000
DTEND;TZID=America/Chicago:20220823T200000
DTSTAMP:20260421T210006
CREATED:20220605T212033Z
LAST-MODIFIED:20220821T234909Z
UID:898-1661281200-1661284800@towergroveeast.org
SUMMARY:August General Neighborhood Meeting
DESCRIPTION:
URL:https://towergroveeast.org/event/june-general-neighborhood-meeting/
LOCATION:Stray Dog Theatre\, 2336 Tennessee Ave\, St. Louis
CATEGORIES:Meeting
ATTACH;FMTTYPE=image/png:https://towergroveeast.org/wp-content/uploads/2022/06/Screen-Shot-2022-08-14-at-9.03.02-AM.png
END:VEVENT
BEGIN:VEVENT
DTSTART;TZID=America/Chicago:20220827T140000
DTEND;TZID=America/Chicago:20220827T190000
DTSTAMP:20260421T210006
CREATED:20220823T205631Z
LAST-MODIFIED:20220823T205631Z
UID:955-1661608800-1661626800@towergroveeast.org
SUMMARY:Roosevelt Football Fundraiser
DESCRIPTION:Fundraiser for Roosevelt High School Football Team Breakfast \n\nEach fall\, Roosevelt Community Council supports the Roosevelt High School football team through the Football Breakfast Program. The program provides catered meals to 45 students and coaching staff before Saturday home games and Friday evening away games. This year\, the football season will include six breakfasts\, beginning August 27\, 2022. The program is expected to cost approximately $3\,000. Yup – these guys eat a lot. \nAfter a 2-year absence due to COVID\, the Roosevelt Community Council is bringing back the fundraiser at Riley’s to support the football breakfasts for the Roosevelt football team. It will be on Saturday August 27\, 2-7 p.m. following the first game of the year. \nStop by Riley’s Pub to eat\, drink and bid on prizes all for a good cause. And don’t forget to swing by a football game this year to cheer on the Roughriders!
URL:https://towergroveeast.org/event/roosevelt-football-fundraiser/
LOCATION:Riley’s Pub\, 3458 Arsenal\, St. Louis\, MO\, 63118\, United States
ATTACH;FMTTYPE=image/jpeg:https://towergroveeast.org/wp-content/uploads/2022/08/Football-Fundraiser-rev-7-26-2022.jpg
END:VEVENT
BEGIN:VEVENT
DTSTART;TZID=America/Chicago:20220915T173000
DTEND;TZID=America/Chicago:20220915T190000
DTSTAMP:20260421T210006
CREATED:20220605T212148Z
LAST-MODIFIED:20220902T235300Z
UID:900-1663263000-1663268400@towergroveeast.org
SUMMARY:September TGE Adventures: The Neighborhood Social Event
DESCRIPTION:
URL:https://towergroveeast.org/event/june-tge-adventures-the-neighborhood-social-event/
LOCATION:Tower Grove East Community Garden\, 3303 Sidney St\, St. Louis\, 63104
CATEGORIES:Tower Grove East Adventures
ATTACH;FMTTYPE=image/png:https://towergroveeast.org/wp-content/uploads/2022/06/Screen-Shot-2022-09-02-at-4.47.57-PM.png
END:VEVENT
BEGIN:VEVENT
DTSTART;TZID=America/Chicago:20220927T173000
DTEND;TZID=America/Chicago:20220927T200000
DTSTAMP:20260421T210006
CREATED:20220821T235312Z
LAST-MODIFIED:20220903T002324Z
UID:933-1664299800-1664308800@towergroveeast.org
SUMMARY:September 2022 Annual Picnic - In place of monthly meeting
DESCRIPTION:This month’s meeting will be replaced with our annual picnic in Tower Grove Park! Dogs & Brats will be provided – please consider bringing a side dish to share with others! Beer will also be provided thanks to Civil Life. \nWe will accept nominees for executive board positions\, which will be voted on in October. \nAll are invited!
URL:https://towergroveeast.org/event/september-2022-general-neighborhood-meeting/
LOCATION:Sons of Rest Pavilion in Tower Grove Park
CATEGORIES:Meeting
END:VEVENT
BEGIN:VEVENT
DTSTART;TZID=America/Chicago:20221025T190000
DTEND;TZID=America/Chicago:20221025T200000
DTSTAMP:20260421T210006
CREATED:20220821T235527Z
LAST-MODIFIED:20220821T235527Z
UID:936-1666724400-1666728000@towergroveeast.org
SUMMARY:October 2022 General Neighborhood Meeting
DESCRIPTION:
URL:https://towergroveeast.org/event/october-2022-general-neighborhood-meeting/
LOCATION:Stray Dog Theatre\, 2336 Tennessee Ave\, St. Louis
CATEGORIES:Meeting
END:VEVENT
BEGIN:VEVENT
DTSTART;TZID=America/Chicago:20221122T190000
DTEND;TZID=America/Chicago:20221122T200000
DTSTAMP:20260421T210006
CREATED:20220821T235621Z
LAST-MODIFIED:20221106T235632Z
UID:938-1669143600-1669147200@towergroveeast.org
SUMMARY:November 2022 General Neighborhood Meeting
DESCRIPTION:Link to submit questions: \nhttps://forms.gle/QqXeBn6kGtwwrETx8
URL:https://towergroveeast.org/event/november-2022-general-neighborhood-meeting/
LOCATION:Stray Dog Theatre\, 2336 Tennessee Ave\, St. Louis
CATEGORIES:Meeting
ATTACH;FMTTYPE=image/png:https://towergroveeast.org/wp-content/uploads/2022/11/Screen-Shot-2022-11-06-at-5.39.57-PM.png
END:VEVENT
BEGIN:VEVENT
DTSTART;TZID=America/Chicago:20221221T160000
DTEND;TZID=America/Chicago:20221221T190000
DTSTAMP:20260421T210006
CREATED:20221211T163832Z
LAST-MODIFIED:20221211T163832Z
UID:991-1671638400-1671649200@towergroveeast.org
SUMMARY:Winter Solstice in The Orchard
DESCRIPTION:For Winter Solstice\, it’s mainly going to be a traditional solstice ceremony around the fire.  It’s a time to reflect on the longest day of the year and the seasons.\nUsually\, we have kiddos at this.. but all ages are welcome.\n 
URL:https://towergroveeast.org/event/winter-solstice-in-the-orchard/
LOCATION:The Orchard on Virginia\, 3001 Virginia\, St. Louis\, MO\, 63118\, United States
ATTACH;FMTTYPE=image/jpeg:https://towergroveeast.org/wp-content/uploads/2022/12/9DA73B90-401E-419F-AE7C-651B421AA569.jpeg
END:VEVENT
BEGIN:VEVENT
DTSTART;TZID=America/Chicago:20230124T080000
DTEND;TZID=America/Chicago:20230124T170000
DTSTAMP:20260421T210006
CREATED:20220821T235726Z
LAST-MODIFIED:20230706T225708Z
UID:940-1674547200-1674579600@towergroveeast.org
SUMMARY:January 2023 General Neighborhood Meeting
DESCRIPTION:A recap of this meeting can be viewed here.
URL:https://towergroveeast.org/event/january-2023-general-neighborhood-meeting/
LOCATION:Stray Dog Theatre\, 2336 Tennessee Ave\, St. Louis
CATEGORIES:Meeting
END:VEVENT
BEGIN:VEVENT
DTSTART;TZID=America/Chicago:20230228T190000
DTEND;TZID=America/Chicago:20230228T200000
DTSTAMP:20260421T210006
CREATED:20220821T235833Z
LAST-MODIFIED:20230706T225758Z
UID:942-1677610800-1677614400@towergroveeast.org
SUMMARY:February 2023 General Neighborhood + Aldermanic Forum
DESCRIPTION:** THIS WEEK: **\nTGENA is hosting an Aldermanic Forum as a part of our February general meeting THIS TUESDAY\, 2/28. All 3 candidates running for the new 7th ward alderperson position have agreed to participate. Come meet them and ask them questions! \nThe event will be streamed on Zoom\, but will not be recorded. Our secretary will take great notes (as usual) which will be put out in the days following for your review. \nSee details on the meeting/forum\, the new 7th ward\, and on upcoming election dates below!! \n  \nA recap of this meeting can be viewed here.
URL:https://towergroveeast.org/event/february-2023-general-neighborhood-meeting/
LOCATION:Stray Dog Theatre\, 2336 Tennessee Ave\, St. Louis
CATEGORIES:Meeting
ATTACH;FMTTYPE=image/png:https://towergroveeast.org/wp-content/uploads/2022/08/Screen-Shot-2023-02-04-at-1.14.33-PM.png
END:VEVENT
BEGIN:VEVENT
DTSTART;TZID=America/Chicago:20230316T180000
DTEND;TZID=America/Chicago:20230316T200000
DTSTAMP:20260421T210006
CREATED:20221112T142321Z
LAST-MODIFIED:20230312T214530Z
UID:979-1678989600-1678996800@towergroveeast.org
SUMMARY:TGE Adventures: The Monthly Neighborhood Social Event
DESCRIPTION:
URL:https://towergroveeast.org/event/tge-adventures-the-monthly-neighborhood-social-event/
CATEGORIES:Tower Grove East Adventures
ATTACH;FMTTYPE=image/png:https://towergroveeast.org/wp-content/uploads/2022/11/Screen-Shot-2022-11-11-at-8.58.59-AM.png
END:VEVENT
BEGIN:VEVENT
DTSTART;TZID=America/Chicago:20230328T190000
DTEND;TZID=America/Chicago:20230328T190000
DTSTAMP:20260421T210006
CREATED:20220822T000001Z
LAST-MODIFIED:20230706T225859Z
UID:944-1680030000-1680030000@towergroveeast.org
SUMMARY:March 2023 General Neighborhood Meeting
DESCRIPTION:Join us for our March general neighborhood meeting\, which will feature new SLMPD Chief of Police\, Robert J. Tracy. \nSubmit your questions/concerns for him to review/respond to here:\nhttps://forms.gle/oXwqdYEM1kwUxHP67 \nAll neighbors are encouraged to attend our monthly general meetings to learn about neighborhood and city efforts and activities. \n  \n \nA recap of this meeting can be viewed here.
URL:https://towergroveeast.org/event/march-2023-general-neighborhood-meeting/
LOCATION:Stray Dog Theatre\, 2336 Tennessee Ave\, St. Louis
CATEGORIES:Meeting
ATTACH;FMTTYPE=image/png:https://towergroveeast.org/wp-content/uploads/2022/08/Screen-Shot-2023-03-11-at-10.10.07-AM.png
END:VEVENT
BEGIN:VEVENT
DTSTART;TZID=America/Chicago:20230425T190000
DTEND;TZID=America/Chicago:20230425T200000
DTSTAMP:20260421T210006
CREATED:20220822T000044Z
LAST-MODIFIED:20220822T000044Z
UID:946-1682449200-1682452800@towergroveeast.org
SUMMARY:April 2023 General Neighborhood Meeting
DESCRIPTION:
URL:https://towergroveeast.org/event/april-2023-general-neighborhood-meeting/
LOCATION:Stray Dog Theatre\, 2336 Tennessee Ave\, St. Louis
CATEGORIES:Meeting
END:VEVENT
BEGIN:VEVENT
DTSTART;TZID=America/Chicago:20230512T160000
DTEND;TZID=America/Chicago:20230512T200000
DTSTAMP:20260421T210006
CREATED:20230511T013443Z
LAST-MODIFIED:20230511T013443Z
UID:1019-1683907200-1683921600@towergroveeast.org
SUMMARY:TGE Adventures: The Neighborhood Monthly Social Event
DESCRIPTION:
URL:https://towergroveeast.org/event/tge-adventures-the-neighborhood-monthly-social-event/
LOCATION:Tower Grove Park
CATEGORIES:Tower Grove East Adventures
END:VEVENT
BEGIN:VEVENT
DTSTART;TZID=America/Chicago:20230523T190000
DTEND;TZID=America/Chicago:20230523T200000
DTSTAMP:20260421T210006
CREATED:20220822T000120Z
LAST-MODIFIED:20230607T025326Z
UID:948-1684868400-1684872000@towergroveeast.org
SUMMARY:May 2023 General Neighborhood Meeting
DESCRIPTION:Click here to view a recap of this monthly meeting.
URL:https://towergroveeast.org/event/may-2023-general-neighborhood-meeting/
CATEGORIES:Meeting
END:VEVENT
BEGIN:VEVENT
DTSTART;TZID=America/Chicago:20230627T190000
DTEND;TZID=America/Chicago:20230627T200000
DTSTAMP:20260421T210006
CREATED:20220822T000213Z
LAST-MODIFIED:20230706T202557Z
UID:950-1687892400-1687896000@towergroveeast.org
SUMMARY:June 2023 General Neighborhood Meeting
DESCRIPTION:A recap of this meeting\, including a crime report from PO Kevin Dilg\, can be viewed here.
URL:https://towergroveeast.org/event/june-2023-general-neighborhood-meeting/
LOCATION:Stray Dog Theatre\, 2336 Tennessee Ave\, St. Louis
CATEGORIES:Meeting
END:VEVENT
BEGIN:VEVENT
DTSTART;TZID=America/Chicago:20230725T190000
DTEND;TZID=America/Chicago:20230725T200000
DTSTAMP:20260421T210006
CREATED:20220822T000252Z
LAST-MODIFIED:20230706T221048Z
UID:952-1690311600-1690315200@towergroveeast.org
SUMMARY:July 2023 General Neighborhood Meeting
DESCRIPTION:
URL:https://towergroveeast.org/event/july-2023-general-neighborhood-meeting/
LOCATION:Stray Dog Theatre\, 2336 Tennessee Ave\, St. Louis
CATEGORIES:Meeting
END:VEVENT
BEGIN:VEVENT
DTSTART;TZID=America/Chicago:20230817T180000
DTEND;TZID=America/Chicago:20230817T200000
DTSTAMP:20260421T210006
CREATED:20230706T230150Z
LAST-MODIFIED:20230706T230150Z
UID:1064-1692295200-1692302400@towergroveeast.org
SUMMARY:TGE Adventures: The Neighborhood Monthly Social Event
DESCRIPTION:
URL:https://towergroveeast.org/event/tge-adventures-the-neighborhood-monthly-social-event-2/
CATEGORIES:Tower Grove East Adventures
END:VEVENT
BEGIN:VEVENT
DTSTART;TZID=America/Chicago:20230822T190000
DTEND;TZID=America/Chicago:20230822T200000
DTSTAMP:20260421T210006
CREATED:20230706T220955Z
LAST-MODIFIED:20230906T232134Z
UID:1051-1692730800-1692734400@towergroveeast.org
SUMMARY:August 2023 General Neighborhood Meeting
DESCRIPTION:A recap of the August 2023 General Meeting can be found here.
URL:https://towergroveeast.org/event/august-2023-general-neighborhood-meeting/
LOCATION:Stray Dog Theatre\, 2336 Tennessee Ave\, St. Louis
CATEGORIES:Meeting
END:VEVENT
BEGIN:VEVENT
DTSTART;TZID=America/Chicago:20230921T180000
DTEND;TZID=America/Chicago:20230921T200000
DTSTAMP:20260421T210006
CREATED:20230706T230327Z
LAST-MODIFIED:20230706T230327Z
UID:1066-1695319200-1695326400@towergroveeast.org
SUMMARY:TGE Adventures: The Neighborhood Monthly Social Event
DESCRIPTION:
URL:https://towergroveeast.org/event/tge-adventures-the-neighborhood-monthly-social-event-3/
CATEGORIES:Tower Grove East Adventures
END:VEVENT
BEGIN:VEVENT
DTSTART;TZID=America/Chicago:20230926T173000
DTEND;TZID=America/Chicago:20230926T193000
DTSTAMP:20260421T210006
CREATED:20230924T033240Z
LAST-MODIFIED:20230924T033330Z
UID:1096-1695749400-1695756600@towergroveeast.org
SUMMARY:2023 Potluck Picnic
DESCRIPTION:
URL:https://towergroveeast.org/event/2023-potluck-picnic/
LOCATION:Sons of Rest Pavilion in Tower Grove Park
END:VEVENT
BEGIN:VEVENT
DTSTART;TZID=America/Chicago:20231024T190000
DTEND;TZID=America/Chicago:20231024T200000
DTSTAMP:20260421T210006
CREATED:20230706T221520Z
LAST-MODIFIED:20230706T221520Z
UID:1055-1698174000-1698177600@towergroveeast.org
SUMMARY:October 2023 General Neighborhood Meeting
DESCRIPTION:
URL:https://towergroveeast.org/event/october-2023-general-neighborhood-meeting/
LOCATION:Stray Dog Theatre\, 2336 Tennessee Ave\, St. Louis
CATEGORIES:Meeting
END:VEVENT
BEGIN:VEVENT
DTSTART;TZID=America/Chicago:20231128T190000
DTEND;TZID=America/Chicago:20231128T200000
DTSTAMP:20260421T210006
CREATED:20230706T221635Z
LAST-MODIFIED:20230706T221635Z
UID:1057-1701198000-1701201600@towergroveeast.org
SUMMARY:November 2023 General Neighborhood Meeting
DESCRIPTION:
URL:https://towergroveeast.org/event/november-2023-general-neighborhood-meeting/
LOCATION:Stray Dog Theatre\, 2336 Tennessee Ave\, St. Louis
CATEGORIES:Meeting
END:VEVENT
BEGIN:VEVENT
DTSTART;TZID=America/Chicago:20240123T190000
DTEND;TZID=America/Chicago:20240123T200000
DTSTAMP:20260421T210006
CREATED:20231125T165755Z
LAST-MODIFIED:20240207T163300Z
UID:1111-1706036400-1706040000@towergroveeast.org
SUMMARY:January 2024 General Neighborhood Meeting
DESCRIPTION:A recap of the January 2024 General Neighborhood Meeting can be found here.
URL:https://towergroveeast.org/event/january-2024-general-neighborhood-meeting/
LOCATION:Stray Dog Theatre\, 2336 Tennessee Ave\, St. Louis
CATEGORIES:Meeting
END:VEVENT
BEGIN:VEVENT
DTSTART;TZID=America/Chicago:20240215T180000
DTEND;TZID=America/Chicago:20240215T200000
DTSTAMP:20260421T210006
CREATED:20240209T021905Z
LAST-MODIFIED:20240209T021941Z
UID:1131-1708020000-1708027200@towergroveeast.org
SUMMARY:TGE Adventures: Pal-entine's After Hours at Garden District
DESCRIPTION:  \nJoin us Thursday\, Feb 15 for a Pal-entine’s party! This month\, TGE Adventures is popping up at Garden District for after-hours shopping\, snacks and fun with neighbors! Check out our Instagram feed for more details!
URL:https://towergroveeast.org/event/tge-adventures-pal-entines-after-hours-at-garden-district/
LOCATION:Garden District STL\, 3203 S Grand\, St. Louis\, MO\, 63118\, United States
CATEGORIES:Tower Grove East Adventures
END:VEVENT
BEGIN:VEVENT
DTSTART;TZID=America/Chicago:20240227T190000
DTEND;TZID=America/Chicago:20240227T200000
DTSTAMP:20260421T210006
CREATED:20231125T170051Z
LAST-MODIFIED:20240311T010207Z
UID:1113-1709060400-1709064000@towergroveeast.org
SUMMARY:February 2024 General Neighborhood Meeting
DESCRIPTION:The Tower Grove East Neighborhood Association’s regular monthly meeting. Hear updates from TGENA’s president and committee chairs\, as well our SLMPD neighborhood liaison\, city and business leaders\, and our legislative representatives. Join us afterward for a happy hour with drinks provided! \nThis month we’ll be hearing from Tom Nagel\, from the St. Louis Community Development Administration. Additionally\, our Beautification Committee Chairwoman\, Anne Moore\, has arranged for an arborist to speak\, just in time for the Spring growing season! \nA recap of the February 2024 general meeting can be viewed here.
URL:https://towergroveeast.org/event/february-2024-general-neighborhood-meeting/
LOCATION:Stray Dog Theatre\, 2336 Tennessee Ave\, St. Louis
CATEGORIES:Meeting
END:VEVENT
BEGIN:VEVENT
DTSTART;TZID=America/Chicago:20240314T180000
DTEND;TZID=America/Chicago:20240314T200000
DTSTAMP:20260421T210006
CREATED:20240228T205248Z
LAST-MODIFIED:20240228T205413Z
UID:1139-1710439200-1710446400@towergroveeast.org
SUMMARY:TGE Adventures: The Neighborhood Monthly Social Event
DESCRIPTION:
URL:https://towergroveeast.org/event/tge-adventures-the-neighborhood-monthly-social-event-4/
LOCATION:Crafted.\, 3200 Shenendoah\, St. Louis\, MO\, 63104\, United States
END:VEVENT
BEGIN:VEVENT
DTSTART;TZID=America/Chicago:20240326T190000
DTEND;TZID=America/Chicago:20240326T200000
DTSTAMP:20260421T210006
CREATED:20231125T170149Z
LAST-MODIFIED:20240401T235523Z
UID:1115-1711479600-1711483200@towergroveeast.org
SUMMARY:March 2024 General Neighborhood Meeting
DESCRIPTION:The Tower Grove East Neighborhood Association’s regular monthly meeting. Hear updates from TGENA’s president and committee chairs\, as well our SLMPD neighborhood liaison\, city and business leaders\, and our legislative representatives. Join us afterward for a happy hour with drinks provided!\n\nThis month\, Captain Angela Dickerson of the SLMPD will be visiting to introduce herself as the new commander of SLMPD’s 3rd District\, Gloria Nolan from SaveSLPS will be speaking about the importance of public education in our community\, and Sean Stone from MSD will discuss upcoming elections for Propositions W and S.\n\nA recap of this general meeting can be viewed here.
URL:https://towergroveeast.org/event/march-2024-general-neighborhood-meeting/
LOCATION:Stray Dog Theatre\, 2336 Tennessee Ave\, St. Louis
CATEGORIES:Meeting
END:VEVENT
BEGIN:VEVENT
DTSTART;TZID=America/Chicago:20240418T180000
DTEND;TZID=America/Chicago:20240418T200000
DTSTAMP:20260421T210006
CREATED:20240410T235955Z
LAST-MODIFIED:20240410T235955Z
UID:1190-1713463200-1713470400@towergroveeast.org
SUMMARY:TGE Adventures: The Neighborhood Monthly Social Event
DESCRIPTION:Join us this at Riley’s Pub for this month’s TGE Adventures! Fingers crossed for some patio weather!
URL:https://towergroveeast.org/event/tge-adventures-the-neighborhood-monthly-social-event-5/
LOCATION:Riley’s Pub\, 3458 Arsenal\, St. Louis\, MO\, 63118\, United States
CATEGORIES:Tower Grove East Adventures
ATTACH;FMTTYPE=image/jpeg:https://towergroveeast.org/wp-content/uploads/2024/04/April-24-Adventures-WebFB.jpg
END:VEVENT
END:VCALENDAR