BEGIN:VCALENDAR
VERSION:2.0
PRODID:-//Tower Grove East - ECPv6.15.20//NONSGML v1.0//EN
CALSCALE:GREGORIAN
METHOD:PUBLISH
X-WR-CALNAME:Tower Grove East
X-ORIGINAL-URL:https://towergroveeast.org
X-WR-CALDESC:Events for Tower Grove East
REFRESH-INTERVAL;VALUE=DURATION:PT1H
X-Robots-Tag:noindex
X-PUBLISHED-TTL:PT1H
BEGIN:VTIMEZONE
TZID:America/Chicago
BEGIN:DAYLIGHT
TZOFFSETFROM:-0600
TZOFFSETTO:-0500
TZNAME:CDT
DTSTART:20250309T080000
END:DAYLIGHT
BEGIN:STANDARD
TZOFFSETFROM:-0500
TZOFFSETTO:-0600
TZNAME:CST
DTSTART:20251102T070000
END:STANDARD
BEGIN:DAYLIGHT
TZOFFSETFROM:-0600
TZOFFSETTO:-0500
TZNAME:CDT
DTSTART:20260308T080000
END:DAYLIGHT
BEGIN:STANDARD
TZOFFSETFROM:-0500
TZOFFSETTO:-0600
TZNAME:CST
DTSTART:20261101T070000
END:STANDARD
BEGIN:DAYLIGHT
TZOFFSETFROM:-0600
TZOFFSETTO:-0500
TZNAME:CDT
DTSTART:20270314T080000
END:DAYLIGHT
BEGIN:STANDARD
TZOFFSETFROM:-0500
TZOFFSETTO:-0600
TZNAME:CST
DTSTART:20271107T070000
END:STANDARD
END:VTIMEZONE
BEGIN:VEVENT
DTSTART;TZID=America/Chicago:20260127T190000
DTEND;TZID=America/Chicago:20260127T200000
DTSTAMP:20260421T120112
CREATED:20260113T235238Z
LAST-MODIFIED:20260205T000517Z
UID:1468-1769540400-1769544000@towergroveeast.org
SUMMARY:January General Neighborhood Meeting
DESCRIPTION:The Tower Grove East Neighborhood Association’s regular monthly meeting. Hear updates from TGENA’s president and committee chairs\, as well our SLMPD neighborhood liaison\, city and business leaders\, and our legislative representatives. Join us afterward for a happy hour with drinks provided! \nIn addition to our regular agenda of legislative updates and committee reports\, this month we’ll be hearing from Eric Thoelke\, representing the Midtown Alley Neighborhood Alliance\, about MODOT’s planned closure of the ramp from Compton Avenue to westbound I-64/40. \nA recap of this meeting can be viewed here.
URL:https://towergroveeast.org/event/january-general-neighborhood-meeting/
LOCATION:Tower Grove Manor\, 2710 S Grand Blvd\, Saint Louis\, MO\, 63118\, United States
CATEGORIES:Meeting
ATTACH;FMTTYPE=image/jpeg:https://towergroveeast.org/wp-content/uploads/2026/01/January-26-Meeting-Graphic.1.jpeg
END:VEVENT
BEGIN:VEVENT
DTSTART;TZID=America/Chicago:20260214T100000
DTEND;TZID=America/Chicago:20260214T120000
DTSTAMP:20260421T120112
CREATED:20260204T215647Z
LAST-MODIFIED:20260204T215647Z
UID:1512-1771063200-1771070400@towergroveeast.org
SUMMARY:February Cleanup and Street Tree Pruning
DESCRIPTION:
URL:https://towergroveeast.org/event/february-cleanup-and-street-tree-pruning/
LOCATION:South Grand Parking Lot\, 3500 Hartford St.\, St. Louis\, MO\, 63118\, United States
CATEGORIES:Beautification
END:VEVENT
BEGIN:VEVENT
DTSTART;TZID=America/Chicago:20260224T190000
DTEND;TZID=America/Chicago:20260224T200000
DTSTAMP:20260421T120112
CREATED:20260113T235511Z
LAST-MODIFIED:20260317T200058Z
UID:1470-1771959600-1771963200@towergroveeast.org
SUMMARY:February General Neighborhood Meeting
DESCRIPTION:The Tower Grove East Neighborhood Association’s regular monthly meeting. Hear updates from TGENA’s president and committee chairs\, as well our SLMPD neighborhood liaison\, city and business leaders\, and our legislative representatives. Join us afterward for a happy hour with drinks provided! This month we’ll be hearing from a representative for the city and Bi-State Development about the pivot from the Metrolink Green Line to a Bus Rapid Transit project. We’ll also hear from our friends at Neighborhood Foresters! \nIf you weren’t able to attend the meeting\, a recap is available here.
URL:https://towergroveeast.org/event/february-general-neighborhood-meeting/
LOCATION:Stray Dog Theatre\, 2336 Tennessee Ave\, St. Louis
CATEGORIES:Meeting
ATTACH;FMTTYPE=image/jpeg:https://towergroveeast.org/wp-content/uploads/2026/01/Feb-26-Placehold-General-Meeting-Announcement.1.jpeg
END:VEVENT
BEGIN:VEVENT
DTSTART;TZID=America/Chicago:20260228T130000
DTEND;TZID=America/Chicago:20260228T160000
DTSTAMP:20260421T120112
CREATED:20260204T214711Z
LAST-MODIFIED:20260226T023245Z
UID:1509-1772283600-1772294400@towergroveeast.org
SUMMARY:Orchard Winter Work Day
DESCRIPTION:
URL:https://towergroveeast.org/event/orchard-winter-work-day/
LOCATION:The Orchard on Virginia\, 3001 Virginia\, St. Louis\, MO\, 63118\, United States
ATTACH;FMTTYPE=image/jpeg:https://towergroveeast.org/wp-content/uploads/2026/02/IMG_0042.jpeg
END:VEVENT
BEGIN:VEVENT
DTSTART;TZID=America/Chicago:20260314T100000
DTEND;TZID=America/Chicago:20260314T120000
DTSTAMP:20260421T120112
CREATED:20260204T215750Z
LAST-MODIFIED:20260311T192619Z
UID:1514-1773482400-1773489600@towergroveeast.org
SUMMARY:March Cleanup and Street Tree Pruning
DESCRIPTION:
URL:https://towergroveeast.org/event/march-cleanup-and-street-tree-pruning/
LOCATION:South Grand Parking Lot\, 3500 Hartford St.\, St. Louis\, MO\, 63118\, United States
CATEGORIES:Beautification
ATTACH;FMTTYPE=image/png:https://towergroveeast.org/wp-content/uploads/2026/02/IMG_0044.png
END:VEVENT
BEGIN:VEVENT
DTSTART;TZID=America/Chicago:20260324T190000
DTEND;TZID=America/Chicago:20260324T200000
DTSTAMP:20260421T120112
CREATED:20260113T235607Z
LAST-MODIFIED:20260406T164601Z
UID:1472-1774378800-1774382400@towergroveeast.org
SUMMARY:March General Neighborhood Meeting
DESCRIPTION:The Tower Grove East Neighborhood Association’s regular monthly meeting. Hear updates from TGENA’s president and committee chairs\, as well our SLMPD neighborhood liaison\, city and business leaders\, and our legislative representatives. Join us afterward for a happy hour with drinks provided! \nIn case you weren’t able to make it to the meeting\, a recap is available here.
URL:https://towergroveeast.org/event/march-general-neighborhood-meeting/
LOCATION:Stray Dog Theatre\, 2336 Tennessee Ave\, St. Louis
CATEGORIES:Meeting
ATTACH;FMTTYPE=image/png:https://towergroveeast.org/wp-content/uploads/2026/01/6861217955587713993.png
END:VEVENT
BEGIN:VEVENT
DTSTART;TZID=America/Chicago:20260331T180000
DTEND;TZID=America/Chicago:20260331T203000
DTSTAMP:20260421T120112
CREATED:20260314T144947Z
LAST-MODIFIED:20260314T150102Z
UID:1526-1774980000-1774989000@towergroveeast.org
SUMMARY:TGE Adventures - Social Night @ Adventures of Intrigue
DESCRIPTION:Come hang with your neighbors and play a fun open concept escape game! TGENA will provide drinks and snacks in Adventures of Intrigue VIP room. (2400 S Jefferson) $5 per person in advance ($35 value) Kids and adults welcome! Tuesday\, March 31st 6pm-830pm. Escape game starts at 630pm. \nSign up here to let us know you’re coming!
URL:https://towergroveeast.org/event/tge-adventures-social-night-adventures-of-intrigue/
LOCATION:Adventures of Intrigue\, 2400 S Jefferson Ave\, Saint Louis\, MO\, 63104\, United States
CATEGORIES:Tower Grove East Adventures
ATTACH;FMTTYPE=image/png:https://towergroveeast.org/wp-content/uploads/2026/03/Social-Night-@-Adventures-of-Intrigure-Flyer.png
END:VEVENT
BEGIN:VEVENT
DTSTART;TZID=America/Chicago:20260411T080000
DTEND;TZID=America/Chicago:20260411T100000
DTSTAMP:20260421T120112
CREATED:20260314T180852Z
LAST-MODIFIED:20260314T180852Z
UID:1532-1775894400-1775901600@towergroveeast.org
SUMMARY:April Cleanup & Street Tree Mulching
DESCRIPTION:
URL:https://towergroveeast.org/event/april-cleanup-street-tree-mulching/
LOCATION:South Grand Parking Lot\, 3500 Hartford St.\, St. Louis\, MO\, 63118\, United States
CATEGORIES:Beautification
ATTACH;FMTTYPE=image/png:https://towergroveeast.org/wp-content/uploads/2026/03/IMG_0046.png
END:VEVENT
BEGIN:VEVENT
DTSTART;TZID=America/Chicago:20260428T190000
DTEND;TZID=America/Chicago:20260428T200000
DTSTAMP:20260421T120112
CREATED:20260113T235724Z
LAST-MODIFIED:20260410T020122Z
UID:1474-1777402800-1777406400@towergroveeast.org
SUMMARY:April General Neighborhood Meeting
DESCRIPTION:The Tower Grove East Neighborhood Association’s regular monthly meeting. Hear updates from TGENA’s president and committee chairs\, as well our SLMPD neighborhood liaison\, city and business leaders\, and our legislative representatives. Join us afterward for a happy hour with drinks provided!
URL:https://towergroveeast.org/event/april-general-neighborhood-meeting-2/
LOCATION:Stray Dog Theatre\, 2336 Tennessee Ave\, St. Louis
CATEGORIES:Meeting
ATTACH;FMTTYPE=image/jpeg:https://towergroveeast.org/wp-content/uploads/2026/04/April-Meeting-Graphic.1-1.jpeg
END:VEVENT
BEGIN:VEVENT
DTSTART;TZID=America/Chicago:20260502T090000
DTEND;TZID=America/Chicago:20260502T140000
DTSTAMP:20260421T120112
CREATED:20260323T201806Z
LAST-MODIFIED:20260323T201806Z
UID:1548-1777712400-1777730400@towergroveeast.org
SUMMARY:2026 TGE Neighborhood Yard Sale
DESCRIPTION:Sign ups are now open for our annual TGE Neighborhood Yard Sale! As always\, the Yard Sale will coincide with the TGE Community Garden’s annual Plant Sale on Saturday\, May 2nd. \nClick here to register for the Yard Sale and have your address added to the map! Maps will be distributed online the week before the sale\, and paper copies will be available at neighborhood businesses the morning of. \nWe will run Facebook and Craigslist ads the month before the sale\, and yard signs will be placed around the neighborhood a week or so beforehand. A rain date of Sunday\, May 3rd will be advertised\, in the event of unfavorable weather. \nNew this year\, the Orchard on the Virginia will be hosting a TGE Kids Yard Sale. Click here to sign up for the Kids Yard Sale! \nHow can you help? Share the event on social media\, put out yard signs of your own\, and go shop your neighbors’ sales! \n 
URL:https://towergroveeast.org/event/2026-tge-neighborhood-yard-sale/
CATEGORIES:Community Wide Yard Sale
ATTACH;FMTTYPE=image/png:https://towergroveeast.org/wp-content/uploads/2026/03/sign-up-and-plant-sale-1080x1350-1.png
END:VEVENT
BEGIN:VEVENT
DTSTART;TZID=America/Chicago:20260509T080000
DTEND;TZID=America/Chicago:20260509T100000
DTSTAMP:20260421T120112
CREATED:20260314T182002Z
LAST-MODIFIED:20260314T182002Z
UID:1536-1778313600-1778320800@towergroveeast.org
SUMMARY:May Cleanup & Street Tree Mulching
DESCRIPTION:
URL:https://towergroveeast.org/event/may-cleanup-street-tree-mulching/
LOCATION:South Grand Parking Lot\, 3500 Hartford St.\, St. Louis\, MO\, 63118\, United States
CATEGORIES:Beautification
ATTACH;FMTTYPE=image/png:https://towergroveeast.org/wp-content/uploads/2026/03/IMG_0045.png
END:VEVENT
BEGIN:VEVENT
DTSTART;TZID=America/Chicago:20260526T190000
DTEND;TZID=America/Chicago:20260526T200000
DTSTAMP:20260421T120112
CREATED:20260113T235841Z
LAST-MODIFIED:20260410T020242Z
UID:1476-1779822000-1779825600@towergroveeast.org
SUMMARY:May General Neighborhood Meeting
DESCRIPTION:The Tower Grove East Neighborhood Association’s regular monthly meeting. Hear updates from TGENA’s president and committee chairs\, as well our SLMPD neighborhood liaison\, city and business leaders\, and our legislative representatives. Join us afterward for a happy hour with drinks provided!
URL:https://towergroveeast.org/event/may-general-neighborhood-meeting/
LOCATION:Stray Dog Theatre\, 2336 Tennessee Ave\, St. Louis
CATEGORIES:Meeting
ATTACH;FMTTYPE=image/jpeg:https://towergroveeast.org/wp-content/uploads/2026/04/May-Meeting-Graphic.1.jpeg
END:VEVENT
BEGIN:VEVENT
DTSTART;TZID=America/Chicago:20260623T190000
DTEND;TZID=America/Chicago:20260623T200000
DTSTAMP:20260421T120112
CREATED:20260114T000049Z
LAST-MODIFIED:20260410T020209Z
UID:1478-1782241200-1782244800@towergroveeast.org
SUMMARY:June General Neighborhood Meeting
DESCRIPTION:The Tower Grove East Neighborhood Association’s regular monthly meeting. Hear updates from TGENA’s president and committee chairs\, as well our SLMPD neighborhood liaison\, city and business leaders\, and our legislative representatives. Join us afterward for a happy hour with drinks provided!
URL:https://towergroveeast.org/event/june-general-neighborhood-meeting-2/
LOCATION:Stray Dog Theatre\, 2336 Tennessee Ave\, St. Louis
CATEGORIES:Meeting
ATTACH;FMTTYPE=image/jpeg:https://towergroveeast.org/wp-content/uploads/2026/04/June-Meeting-Graphic.1.jpeg
END:VEVENT
BEGIN:VEVENT
DTSTART;TZID=America/Chicago:20260728T190000
DTEND;TZID=America/Chicago:20260728T200000
DTSTAMP:20260421T120112
CREATED:20260114T000221Z
LAST-MODIFIED:20260121T224349Z
UID:1480-1785265200-1785268800@towergroveeast.org
SUMMARY:July General Neighborhood Meeting
DESCRIPTION:The Tower Grove East Neighborhood Association’s regular monthly meeting. Hear updates from TGENA’s president and committee chairs\, as well our SLMPD neighborhood liaison\, city and business leaders\, and our legislative representatives. Join us afterward for a happy hour with drinks provided!
URL:https://towergroveeast.org/event/july-general-neighborhood-meeting/
LOCATION:Stray Dog Theatre\, 2336 Tennessee Ave\, St. Louis
CATEGORIES:Meeting
END:VEVENT
BEGIN:VEVENT
DTSTART;TZID=America/Chicago:20260922T173000
DTEND;TZID=America/Chicago:20260922T190000
DTSTAMP:20260421T120112
CREATED:20260114T000942Z
LAST-MODIFIED:20260114T000942Z
UID:1486-1790098200-1790103600@towergroveeast.org
SUMMARY:2026 TGENA Annual Potluck Picnic
DESCRIPTION:
URL:https://towergroveeast.org/event/2026-tgena-annual-potluck-picnic/
LOCATION:Sons of Rest Pavilion in Tower Grove Park
CATEGORIES:Annual Neighborhood Picnic
END:VEVENT
BEGIN:VEVENT
DTSTART;TZID=America/Chicago:20261027T190000
DTEND;TZID=America/Chicago:20261027T200000
DTSTAMP:20260421T120112
CREATED:20260114T000552Z
LAST-MODIFIED:20260114T000552Z
UID:1482-1793127600-1793131200@towergroveeast.org
SUMMARY:October General Neighborhood Meeting
DESCRIPTION:
URL:https://towergroveeast.org/event/october-general-neighborhood-meeting/
LOCATION:Stray Dog Theatre\, 2336 Tennessee Ave\, St. Louis
CATEGORIES:Meeting
END:VEVENT
BEGIN:VEVENT
DTSTART;TZID=America/Chicago:20261124T190000
DTEND;TZID=America/Chicago:20261124T200000
DTSTAMP:20260421T120112
CREATED:20260114T000659Z
LAST-MODIFIED:20260121T224405Z
UID:1484-1795546800-1795550400@towergroveeast.org
SUMMARY:November General Neighborhood Meeting
DESCRIPTION:The Tower Grove East Neighborhood Association’s regular monthly meeting. Hear updates from TGENA’s president and committee chairs\, as well our SLMPD neighborhood liaison\, city and business leaders\, and our legislative representatives. Join us afterward for a happy hour with drinks provided!
URL:https://towergroveeast.org/event/november-general-neighborhood-meeting/
LOCATION:Stray Dog Theatre\, 2336 Tennessee Ave\, St. Louis
CATEGORIES:Meeting
END:VEVENT
END:VCALENDAR