BEGIN:VCALENDAR
VERSION:2.0
PRODID:-//Tower Grove East - ECPv6.15.20//NONSGML v1.0//EN
CALSCALE:GREGORIAN
METHOD:PUBLISH
X-WR-CALNAME:Tower Grove East
X-ORIGINAL-URL:https://towergroveeast.org
X-WR-CALDESC:Events for Tower Grove East
REFRESH-INTERVAL;VALUE=DURATION:PT1H
X-Robots-Tag:noindex
X-PUBLISHED-TTL:PT1H
BEGIN:VTIMEZONE
TZID:America/Chicago
BEGIN:DAYLIGHT
TZOFFSETFROM:-0600
TZOFFSETTO:-0500
TZNAME:CDT
DTSTART:20210314T080000
END:DAYLIGHT
BEGIN:STANDARD
TZOFFSETFROM:-0500
TZOFFSETTO:-0600
TZNAME:CST
DTSTART:20211107T070000
END:STANDARD
BEGIN:DAYLIGHT
TZOFFSETFROM:-0600
TZOFFSETTO:-0500
TZNAME:CDT
DTSTART:20220313T080000
END:DAYLIGHT
BEGIN:STANDARD
TZOFFSETFROM:-0500
TZOFFSETTO:-0600
TZNAME:CST
DTSTART:20221106T070000
END:STANDARD
BEGIN:DAYLIGHT
TZOFFSETFROM:-0600
TZOFFSETTO:-0500
TZNAME:CDT
DTSTART:20230312T080000
END:DAYLIGHT
BEGIN:STANDARD
TZOFFSETFROM:-0500
TZOFFSETTO:-0600
TZNAME:CST
DTSTART:20231105T070000
END:STANDARD
END:VTIMEZONE
BEGIN:VEVENT
DTSTART;TZID=America/Chicago:20220125T190000
DTEND;TZID=America/Chicago:20220125T200000
DTSTAMP:20260421T171707
CREATED:20211228T141625Z
LAST-MODIFIED:20211228T141752Z
UID:837-1643137200-1643140800@towergroveeast.org
SUMMARY:January 2022 General Meeting
DESCRIPTION:More information coming soon!
URL:https://towergroveeast.org/event/january-2022-general-meeting/
LOCATION:Five Star Senior Center\, 2832 Arsenal\, St. Louis\, MO\, 63118\, United States
CATEGORIES:Meeting
END:VEVENT
END:VCALENDAR