BEGIN:VCALENDAR
VERSION:2.0
PRODID:-//Tower Grove East - ECPv6.15.20//NONSGML v1.0//EN
CALSCALE:GREGORIAN
METHOD:PUBLISH
X-WR-CALNAME:Tower Grove East
X-ORIGINAL-URL:https://towergroveeast.org
X-WR-CALDESC:Events for Tower Grove East
REFRESH-INTERVAL;VALUE=DURATION:PT1H
X-Robots-Tag:noindex
X-PUBLISHED-TTL:PT1H
BEGIN:VTIMEZONE
TZID:America/Chicago
BEGIN:DAYLIGHT
TZOFFSETFROM:-0600
TZOFFSETTO:-0500
TZNAME:CDT
DTSTART:20210314T080000
END:DAYLIGHT
BEGIN:STANDARD
TZOFFSETFROM:-0500
TZOFFSETTO:-0600
TZNAME:CST
DTSTART:20211107T070000
END:STANDARD
BEGIN:DAYLIGHT
TZOFFSETFROM:-0600
TZOFFSETTO:-0500
TZNAME:CDT
DTSTART:20220313T080000
END:DAYLIGHT
BEGIN:STANDARD
TZOFFSETFROM:-0500
TZOFFSETTO:-0600
TZNAME:CST
DTSTART:20221106T070000
END:STANDARD
BEGIN:DAYLIGHT
TZOFFSETFROM:-0600
TZOFFSETTO:-0500
TZNAME:CDT
DTSTART:20230312T080000
END:DAYLIGHT
BEGIN:STANDARD
TZOFFSETFROM:-0500
TZOFFSETTO:-0600
TZNAME:CST
DTSTART:20231105T070000
END:STANDARD
END:VTIMEZONE
BEGIN:VEVENT
DTSTART;TZID=America/Chicago:20220222T190000
DTEND;TZID=America/Chicago:20220222T200000
DTSTAMP:20260421T154212
CREATED:20211228T141852Z
LAST-MODIFIED:20220218T212730Z
UID:839-1645556400-1645560000@towergroveeast.org
SUMMARY:February 2022 General Meeting
DESCRIPTION:PLEASE NOTE: this event is in-person now back @ Stray Dog Theatre! MASKS WILL BE REQUIRED FOR ALL\nSee graphic for Zoom info
URL:https://towergroveeast.org/event/february-2022-general-meeting/
LOCATION:Stray Dog Theatre\, 2336 Tennessee Ave\, St. Louis
CATEGORIES:Meeting
ATTACH;FMTTYPE=image/png:https://towergroveeast.org/wp-content/uploads/2021/12/Screen-Shot-2022-02-18-at-3.26.46-PM.png
END:VEVENT
END:VCALENDAR