BEGIN:VCALENDAR
VERSION:2.0
PRODID:-//Tower Grove East - ECPv6.15.20//NONSGML v1.0//EN
CALSCALE:GREGORIAN
METHOD:PUBLISH
X-WR-CALNAME:Tower Grove East
X-ORIGINAL-URL:https://towergroveeast.org
X-WR-CALDESC:Events for Tower Grove East
REFRESH-INTERVAL;VALUE=DURATION:PT1H
X-Robots-Tag:noindex
X-PUBLISHED-TTL:PT1H
BEGIN:VTIMEZONE
TZID:America/Chicago
BEGIN:DAYLIGHT
TZOFFSETFROM:-0600
TZOFFSETTO:-0500
TZNAME:CDT
DTSTART:20210314T080000
END:DAYLIGHT
BEGIN:STANDARD
TZOFFSETFROM:-0500
TZOFFSETTO:-0600
TZNAME:CST
DTSTART:20211107T070000
END:STANDARD
BEGIN:DAYLIGHT
TZOFFSETFROM:-0600
TZOFFSETTO:-0500
TZNAME:CDT
DTSTART:20220313T080000
END:DAYLIGHT
BEGIN:STANDARD
TZOFFSETFROM:-0500
TZOFFSETTO:-0600
TZNAME:CST
DTSTART:20221106T070000
END:STANDARD
BEGIN:DAYLIGHT
TZOFFSETFROM:-0600
TZOFFSETTO:-0500
TZNAME:CDT
DTSTART:20230312T080000
END:DAYLIGHT
BEGIN:STANDARD
TZOFFSETFROM:-0500
TZOFFSETTO:-0600
TZNAME:CST
DTSTART:20231105T070000
END:STANDARD
END:VTIMEZONE
BEGIN:VEVENT
DTSTART;TZID=America/Chicago:20220823T190000
DTEND;TZID=America/Chicago:20220823T200000
DTSTAMP:20260421T231704
CREATED:20220605T212033Z
LAST-MODIFIED:20220821T234909Z
UID:898-1661281200-1661284800@towergroveeast.org
SUMMARY:August General Neighborhood Meeting
DESCRIPTION:
URL:https://towergroveeast.org/event/june-general-neighborhood-meeting/
LOCATION:Stray Dog Theatre\, 2336 Tennessee Ave\, St. Louis
CATEGORIES:Meeting
ATTACH;FMTTYPE=image/png:https://towergroveeast.org/wp-content/uploads/2022/06/Screen-Shot-2022-08-14-at-9.03.02-AM.png
END:VEVENT
BEGIN:VEVENT
DTSTART;TZID=America/Chicago:20220827T140000
DTEND;TZID=America/Chicago:20220827T190000
DTSTAMP:20260421T231704
CREATED:20220823T205631Z
LAST-MODIFIED:20220823T205631Z
UID:955-1661608800-1661626800@towergroveeast.org
SUMMARY:Roosevelt Football Fundraiser
DESCRIPTION:Fundraiser for Roosevelt High School Football Team Breakfast \n\nEach fall\, Roosevelt Community Council supports the Roosevelt High School football team through the Football Breakfast Program. The program provides catered meals to 45 students and coaching staff before Saturday home games and Friday evening away games. This year\, the football season will include six breakfasts\, beginning August 27\, 2022. The program is expected to cost approximately $3\,000. Yup – these guys eat a lot. \nAfter a 2-year absence due to COVID\, the Roosevelt Community Council is bringing back the fundraiser at Riley’s to support the football breakfasts for the Roosevelt football team. It will be on Saturday August 27\, 2-7 p.m. following the first game of the year. \nStop by Riley’s Pub to eat\, drink and bid on prizes all for a good cause. And don’t forget to swing by a football game this year to cheer on the Roughriders!
URL:https://towergroveeast.org/event/roosevelt-football-fundraiser/
LOCATION:Riley’s Pub\, 3458 Arsenal\, St. Louis\, MO\, 63118\, United States
ATTACH;FMTTYPE=image/jpeg:https://towergroveeast.org/wp-content/uploads/2022/08/Football-Fundraiser-rev-7-26-2022.jpg
END:VEVENT
END:VCALENDAR